BEGIN:VCALENDAR
VERSION:2.0
PRODID:-//Adams County Health - ECPv6.15.16//NONSGML v1.0//EN
CALSCALE:GREGORIAN
METHOD:PUBLISH
X-WR-CALNAME:Adams County Health
X-ORIGINAL-URL:https://adamscountyhealthdepartment.org
X-WR-CALDESC:Events for Adams County Health
REFRESH-INTERVAL;VALUE=DURATION:PT1H
X-Robots-Tag:noindex
X-PUBLISHED-TTL:PT1H
BEGIN:VTIMEZONE
TZID:America/Denver
BEGIN:DAYLIGHT
TZOFFSETFROM:-0700
TZOFFSETTO:-0600
TZNAME:MDT
DTSTART:20250309T090000
END:DAYLIGHT
BEGIN:STANDARD
TZOFFSETFROM:-0600
TZOFFSETTO:-0700
TZNAME:MST
DTSTART:20251102T080000
END:STANDARD
BEGIN:DAYLIGHT
TZOFFSETFROM:-0700
TZOFFSETTO:-0600
TZNAME:MDT
DTSTART:20260308T090000
END:DAYLIGHT
BEGIN:STANDARD
TZOFFSETFROM:-0600
TZOFFSETTO:-0700
TZNAME:MST
DTSTART:20261101T080000
END:STANDARD
BEGIN:DAYLIGHT
TZOFFSETFROM:-0700
TZOFFSETTO:-0600
TZNAME:MDT
DTSTART:20270314T090000
END:DAYLIGHT
BEGIN:STANDARD
TZOFFSETFROM:-0600
TZOFFSETTO:-0700
TZNAME:MST
DTSTART:20271107T080000
END:STANDARD
END:VTIMEZONE
BEGIN:VEVENT
DTSTART;TZID=America/Denver:20260501T130000
DTEND;TZID=America/Denver:20260501T150000
DTSTAMP:20260418T151829
CREATED:20260324T184812Z
LAST-MODIFIED:20260324T215536Z
UID:10001397-1777640400-1777647600@adamscountyhealthdepartment.org
SUMMARY:Build Kits with Project Connects
DESCRIPTION:Project Connects invites you to help us build life-saving kits\, including hygiene and safer-use items! \nJoin us on the first Friday of each month\, 1 – 3 p.m. at the Westminster Project Connects clinic. Snacks will be provided!
URL:https://adamscountyhealthdepartment.org/event/build-kits-with-project-connects/2026-05-01/
LOCATION:Adams County Westminster Clinic\, 1401 W. 122nd Ave.\, Westminster\, CO\, 80234\, United States
CATEGORIES:Harm Reduction
ATTACH;FMTTYPE=image/jpeg:https://adamscountyhealthdepartment.org/wp-content/uploads/sites/2/2026/03/ProjectConnects-Logomark-FullColor-RGB-aspect-ratio-640-480.jpg
END:VEVENT
END:VCALENDAR